BEGIN:VCALENDAR
VERSION:2.0
PRODID:-//ACEs Consortium - ECPv6.14.1//NONSGML v1.0//EN
CALSCALE:GREGORIAN
METHOD:PUBLISH
X-WR-CALNAME:ACEs Consortium
X-ORIGINAL-URL:https://azacesorig.agencyinkwell.dev
X-WR-CALDESC:Events for ACEs Consortium
REFRESH-INTERVAL;VALUE=DURATION:PT1H
X-Robots-Tag:noindex
X-PUBLISHED-TTL:PT1H
BEGIN:VTIMEZONE
TZID:America/Phoenix
BEGIN:STANDARD
TZOFFSETFROM:-0700
TZOFFSETTO:-0700
TZNAME:MST
DTSTART:20210101T000000
END:STANDARD
END:VTIMEZONE
BEGIN:VEVENT
DTSTART;TZID=America/Phoenix:20220608T100000
DTEND;TZID=America/Phoenix:20220608T113000
DTSTAMP:20260421T072251
CREATED:20190628T164716Z
LAST-MODIFIED:20220511T163034Z
UID:10000248-1654682400-1654687800@azacesorig.agencyinkwell.dev
SUMMARY:ACEs Training Work Group
DESCRIPTION:
URL:https://azacesorig.agencyinkwell.dev/event/train-the-trainer-work-group-2019-10-21/2022-06-08/
LOCATION:Virtual
CATEGORIES:ACEs Training Work Group,Executive Committee
ORGANIZER;CN="Sandi Cimino":MAILTO:sandi.cimino@gmail.com
END:VEVENT
BEGIN:VEVENT
DTSTART;TZID=America/Phoenix:20220607T090000
DTEND;TZID=America/Phoenix:20220607T100000
DTSTAMP:20260421T072251
CREATED:20190213T025201Z
LAST-MODIFIED:20190213T214951Z
UID:10000228-1654592400-1654596000@azacesorig.agencyinkwell.dev
SUMMARY:Trauma Informed Recovery
DESCRIPTION:
URL:https://azacesorig.agencyinkwell.dev/event/trauma-informed-recovery/2022-06-07/
LOCATION:Addiction Haven\, 1400 N Gilbert Rd Suite F\, GILBERT\, AZ\, 85234\, United States
CATEGORIES:Executive Committee
ORGANIZER;CN="Angie Burleson":MAILTO:angiemburleson@gmail.com
END:VEVENT
BEGIN:VEVENT
DTSTART;TZID=America/Phoenix:20220523T090000
DTEND;TZID=America/Phoenix:20220523T110000
DTSTAMP:20260421T072251
CREATED:20190213T023630Z
LAST-MODIFIED:20220324T183633Z
UID:10000092-1653296400-1653303600@azacesorig.agencyinkwell.dev
SUMMARY:ACEs Consortium Executive Committee
DESCRIPTION:
URL:https://azacesorig.agencyinkwell.dev/event/ace-consortium-executive-committee/2022-05-23/
CATEGORIES:Executive Committee
END:VEVENT
BEGIN:VEVENT
DTSTART;TZID=America/Phoenix:20220511T100000
DTEND;TZID=America/Phoenix:20220511T113000
DTSTAMP:20260421T072251
CREATED:20190628T164716Z
LAST-MODIFIED:20220511T163034Z
UID:10000247-1652263200-1652268600@azacesorig.agencyinkwell.dev
SUMMARY:ACEs Training Work Group
DESCRIPTION:
URL:https://azacesorig.agencyinkwell.dev/event/train-the-trainer-work-group-2019-10-21/2022-05-11/
LOCATION:Virtual
CATEGORIES:ACEs Training Work Group,Executive Committee
ORGANIZER;CN="Sandi Cimino":MAILTO:sandi.cimino@gmail.com
END:VEVENT
BEGIN:VEVENT
DTSTART;TZID=America/Phoenix:20220510T100000
DTEND;TZID=America/Phoenix:20220510T113000
DTSTAMP:20260421T072251
CREATED:20190213T024141Z
LAST-MODIFIED:20190628T160944Z
UID:10000160-1652176800-1652182200@azacesorig.agencyinkwell.dev
SUMMARY:Arizona Trauma Informed Faith Community Network  (AZTIFC)
DESCRIPTION:
URL:https://azacesorig.agencyinkwell.dev/event/arizona-trauma-informed-faith-community-network-aztifc/2022-05-10/
LOCATION:Location varies
CATEGORIES:Arizona Trauma Informed Faith Community Network (AZTIFC) Work Group,Executive Committee
END:VEVENT
BEGIN:VEVENT
DTSTART;TZID=America/Phoenix:20220503T090000
DTEND;TZID=America/Phoenix:20220503T100000
DTSTAMP:20260421T072251
CREATED:20190213T025201Z
LAST-MODIFIED:20190213T214951Z
UID:10000227-1651568400-1651572000@azacesorig.agencyinkwell.dev
SUMMARY:Trauma Informed Recovery
DESCRIPTION:
URL:https://azacesorig.agencyinkwell.dev/event/trauma-informed-recovery/2022-05-03/
LOCATION:Addiction Haven\, 1400 N Gilbert Rd Suite F\, GILBERT\, AZ\, 85234\, United States
CATEGORIES:Executive Committee
ORGANIZER;CN="Angie Burleson":MAILTO:angiemburleson@gmail.com
END:VEVENT
BEGIN:VEVENT
DTSTART;TZID=America/Phoenix:20220425T090000
DTEND;TZID=America/Phoenix:20220425T110000
DTSTAMP:20260421T072251
CREATED:20190213T023630Z
LAST-MODIFIED:20220324T183633Z
UID:10000091-1650877200-1650884400@azacesorig.agencyinkwell.dev
SUMMARY:ACEs Consortium Executive Committee
DESCRIPTION:
URL:https://azacesorig.agencyinkwell.dev/event/ace-consortium-executive-committee/2022-04-25/
CATEGORIES:Executive Committee
END:VEVENT
BEGIN:VEVENT
DTSTART;TZID=America/Phoenix:20220413T100000
DTEND;TZID=America/Phoenix:20220413T113000
DTSTAMP:20260421T072251
CREATED:20190628T164716Z
LAST-MODIFIED:20220511T163034Z
UID:10000246-1649844000-1649849400@azacesorig.agencyinkwell.dev
SUMMARY:ACEs Training Work Group
DESCRIPTION:
URL:https://azacesorig.agencyinkwell.dev/event/train-the-trainer-work-group-2019-10-21/2022-04-13/
LOCATION:Virtual
CATEGORIES:ACEs Training Work Group,Executive Committee
ORGANIZER;CN="Sandi Cimino":MAILTO:sandi.cimino@gmail.com
END:VEVENT
BEGIN:VEVENT
DTSTART;TZID=America/Phoenix:20220412T100000
DTEND;TZID=America/Phoenix:20220412T113000
DTSTAMP:20260421T072251
CREATED:20190213T024141Z
LAST-MODIFIED:20190628T160944Z
UID:10000159-1649757600-1649763000@azacesorig.agencyinkwell.dev
SUMMARY:Arizona Trauma Informed Faith Community Network  (AZTIFC)
DESCRIPTION:
URL:https://azacesorig.agencyinkwell.dev/event/arizona-trauma-informed-faith-community-network-aztifc/2022-04-12/
LOCATION:Location varies
CATEGORIES:Arizona Trauma Informed Faith Community Network (AZTIFC) Work Group,Executive Committee
END:VEVENT
BEGIN:VEVENT
DTSTART;TZID=America/Phoenix:20220405T090000
DTEND;TZID=America/Phoenix:20220405T100000
DTSTAMP:20260421T072251
CREATED:20190213T025201Z
LAST-MODIFIED:20190213T214951Z
UID:10000226-1649149200-1649152800@azacesorig.agencyinkwell.dev
SUMMARY:Trauma Informed Recovery
DESCRIPTION:
URL:https://azacesorig.agencyinkwell.dev/event/trauma-informed-recovery/2022-04-05/
LOCATION:Addiction Haven\, 1400 N Gilbert Rd Suite F\, GILBERT\, AZ\, 85234\, United States
CATEGORIES:Executive Committee
ORGANIZER;CN="Angie Burleson":MAILTO:angiemburleson@gmail.com
END:VEVENT
BEGIN:VEVENT
DTSTART;TZID=America/Phoenix:20220328T090000
DTEND;TZID=America/Phoenix:20220328T110000
DTSTAMP:20260421T072251
CREATED:20190213T023630Z
LAST-MODIFIED:20220324T183633Z
UID:10000090-1648458000-1648465200@azacesorig.agencyinkwell.dev
SUMMARY:ACEs Consortium Executive Committee
DESCRIPTION:
URL:https://azacesorig.agencyinkwell.dev/event/ace-consortium-executive-committee/2022-03-28/
CATEGORIES:Executive Committee
END:VEVENT
BEGIN:VEVENT
DTSTART;TZID=America/Phoenix:20220309T100000
DTEND;TZID=America/Phoenix:20220309T113000
DTSTAMP:20260421T072251
CREATED:20190628T164716Z
LAST-MODIFIED:20220511T163034Z
UID:10000245-1646820000-1646825400@azacesorig.agencyinkwell.dev
SUMMARY:ACEs Training Work Group
DESCRIPTION:
URL:https://azacesorig.agencyinkwell.dev/event/train-the-trainer-work-group-2019-10-21/2022-03-09/
LOCATION:Virtual
CATEGORIES:ACEs Training Work Group,Executive Committee
ORGANIZER;CN="Sandi Cimino":MAILTO:sandi.cimino@gmail.com
END:VEVENT
BEGIN:VEVENT
DTSTART;TZID=America/Phoenix:20220308T100000
DTEND;TZID=America/Phoenix:20220308T113000
DTSTAMP:20260421T072251
CREATED:20190213T024141Z
LAST-MODIFIED:20190628T160944Z
UID:10000158-1646733600-1646739000@azacesorig.agencyinkwell.dev
SUMMARY:Arizona Trauma Informed Faith Community Network  (AZTIFC)
DESCRIPTION:
URL:https://azacesorig.agencyinkwell.dev/event/arizona-trauma-informed-faith-community-network-aztifc/2022-03-08/
LOCATION:Location varies
CATEGORIES:Arizona Trauma Informed Faith Community Network (AZTIFC) Work Group,Executive Committee
END:VEVENT
BEGIN:VEVENT
DTSTART;TZID=America/Phoenix:20220301T090000
DTEND;TZID=America/Phoenix:20220301T100000
DTSTAMP:20260421T072251
CREATED:20190213T025201Z
LAST-MODIFIED:20190213T214951Z
UID:10000225-1646125200-1646128800@azacesorig.agencyinkwell.dev
SUMMARY:Trauma Informed Recovery
DESCRIPTION:
URL:https://azacesorig.agencyinkwell.dev/event/trauma-informed-recovery/2022-03-01/
LOCATION:Addiction Haven\, 1400 N Gilbert Rd Suite F\, GILBERT\, AZ\, 85234\, United States
CATEGORIES:Executive Committee
ORGANIZER;CN="Angie Burleson":MAILTO:angiemburleson@gmail.com
END:VEVENT
BEGIN:VEVENT
DTSTART;TZID=America/Phoenix:20220228T090000
DTEND;TZID=America/Phoenix:20220228T110000
DTSTAMP:20260421T072251
CREATED:20190213T023630Z
LAST-MODIFIED:20220324T183633Z
UID:10000089-1646038800-1646046000@azacesorig.agencyinkwell.dev
SUMMARY:ACEs Consortium Executive Committee
DESCRIPTION:
URL:https://azacesorig.agencyinkwell.dev/event/ace-consortium-executive-committee/2022-02-28/
CATEGORIES:Executive Committee
END:VEVENT
BEGIN:VEVENT
DTSTART;TZID=America/Phoenix:20220208T100000
DTEND;TZID=America/Phoenix:20220208T113000
DTSTAMP:20260421T072251
CREATED:20190213T024141Z
LAST-MODIFIED:20190628T160944Z
UID:10000157-1644314400-1644319800@azacesorig.agencyinkwell.dev
SUMMARY:Arizona Trauma Informed Faith Community Network  (AZTIFC)
DESCRIPTION:
URL:https://azacesorig.agencyinkwell.dev/event/arizona-trauma-informed-faith-community-network-aztifc/2022-02-08/
LOCATION:Location varies
CATEGORIES:Arizona Trauma Informed Faith Community Network (AZTIFC) Work Group,Executive Committee
END:VEVENT
BEGIN:VEVENT
DTSTART;TZID=America/Phoenix:20220201T090000
DTEND;TZID=America/Phoenix:20220201T100000
DTSTAMP:20260421T072251
CREATED:20190213T025201Z
LAST-MODIFIED:20190213T214951Z
UID:10000224-1643706000-1643709600@azacesorig.agencyinkwell.dev
SUMMARY:Trauma Informed Recovery
DESCRIPTION:
URL:https://azacesorig.agencyinkwell.dev/event/trauma-informed-recovery/2022-02-01/
LOCATION:Addiction Haven\, 1400 N Gilbert Rd Suite F\, GILBERT\, AZ\, 85234\, United States
CATEGORIES:Executive Committee
ORGANIZER;CN="Angie Burleson":MAILTO:angiemburleson@gmail.com
END:VEVENT
BEGIN:VEVENT
DTSTART;TZID=America/Phoenix:20220124T090000
DTEND;TZID=America/Phoenix:20220124T110000
DTSTAMP:20260421T072251
CREATED:20190213T023630Z
LAST-MODIFIED:20220324T183633Z
UID:10000088-1643014800-1643022000@azacesorig.agencyinkwell.dev
SUMMARY:ACEs Consortium Executive Committee
DESCRIPTION:
URL:https://azacesorig.agencyinkwell.dev/event/ace-consortium-executive-committee/2022-01-24/
CATEGORIES:Executive Committee
END:VEVENT
BEGIN:VEVENT
DTSTART;TZID=America/Phoenix:20220111T100000
DTEND;TZID=America/Phoenix:20220111T113000
DTSTAMP:20260421T072251
CREATED:20190213T024141Z
LAST-MODIFIED:20190628T160944Z
UID:10000156-1641895200-1641900600@azacesorig.agencyinkwell.dev
SUMMARY:Arizona Trauma Informed Faith Community Network  (AZTIFC)
DESCRIPTION:
URL:https://azacesorig.agencyinkwell.dev/event/arizona-trauma-informed-faith-community-network-aztifc/2022-01-11/
LOCATION:Location varies
CATEGORIES:Arizona Trauma Informed Faith Community Network (AZTIFC) Work Group,Executive Committee
END:VEVENT
BEGIN:VEVENT
DTSTART;TZID=America/Phoenix:20220104T090000
DTEND;TZID=America/Phoenix:20220104T100000
DTSTAMP:20260421T072251
CREATED:20190213T025201Z
LAST-MODIFIED:20190213T214951Z
UID:10000223-1641286800-1641290400@azacesorig.agencyinkwell.dev
SUMMARY:Trauma Informed Recovery
DESCRIPTION:
URL:https://azacesorig.agencyinkwell.dev/event/trauma-informed-recovery/2022-01-04/
LOCATION:Addiction Haven\, 1400 N Gilbert Rd Suite F\, GILBERT\, AZ\, 85234\, United States
CATEGORIES:Executive Committee
ORGANIZER;CN="Angie Burleson":MAILTO:angiemburleson@gmail.com
END:VEVENT
BEGIN:VEVENT
DTSTART;TZID=America/Phoenix:20211227T090000
DTEND;TZID=America/Phoenix:20211227T110000
DTSTAMP:20260421T072251
CREATED:20190213T023630Z
LAST-MODIFIED:20220324T183633Z
UID:10000087-1640595600-1640602800@azacesorig.agencyinkwell.dev
SUMMARY:ACEs Consortium Executive Committee
DESCRIPTION:
URL:https://azacesorig.agencyinkwell.dev/event/ace-consortium-executive-committee/2021-12-27/
CATEGORIES:Executive Committee
END:VEVENT
BEGIN:VEVENT
DTSTART;TZID=America/Phoenix:20211214T100000
DTEND;TZID=America/Phoenix:20211214T113000
DTSTAMP:20260421T072251
CREATED:20190213T024141Z
LAST-MODIFIED:20190628T160944Z
UID:10000155-1639476000-1639481400@azacesorig.agencyinkwell.dev
SUMMARY:Arizona Trauma Informed Faith Community Network  (AZTIFC)
DESCRIPTION:
URL:https://azacesorig.agencyinkwell.dev/event/arizona-trauma-informed-faith-community-network-aztifc/2021-12-14/
LOCATION:Location varies
CATEGORIES:Arizona Trauma Informed Faith Community Network (AZTIFC) Work Group,Executive Committee
END:VEVENT
BEGIN:VEVENT
DTSTART;TZID=America/Phoenix:20211207T090000
DTEND;TZID=America/Phoenix:20211207T100000
DTSTAMP:20260421T072251
CREATED:20190213T025201Z
LAST-MODIFIED:20190213T214951Z
UID:10000222-1638867600-1638871200@azacesorig.agencyinkwell.dev
SUMMARY:Trauma Informed Recovery
DESCRIPTION:
URL:https://azacesorig.agencyinkwell.dev/event/trauma-informed-recovery/2021-12-07/
LOCATION:Addiction Haven\, 1400 N Gilbert Rd Suite F\, GILBERT\, AZ\, 85234\, United States
CATEGORIES:Executive Committee
ORGANIZER;CN="Angie Burleson":MAILTO:angiemburleson@gmail.com
END:VEVENT
BEGIN:VEVENT
DTSTART;TZID=America/Phoenix:20211122T090000
DTEND;TZID=America/Phoenix:20211122T110000
DTSTAMP:20260421T072251
CREATED:20190213T023630Z
LAST-MODIFIED:20220324T183633Z
UID:10000086-1637571600-1637578800@azacesorig.agencyinkwell.dev
SUMMARY:ACEs Consortium Executive Committee
DESCRIPTION:
URL:https://azacesorig.agencyinkwell.dev/event/ace-consortium-executive-committee/2021-11-22/
CATEGORIES:Executive Committee
END:VEVENT
BEGIN:VEVENT
DTSTART;TZID=America/Phoenix:20211109T100000
DTEND;TZID=America/Phoenix:20211109T113000
DTSTAMP:20260421T072251
CREATED:20190213T024141Z
LAST-MODIFIED:20190628T160944Z
UID:10000154-1636452000-1636457400@azacesorig.agencyinkwell.dev
SUMMARY:Arizona Trauma Informed Faith Community Network  (AZTIFC)
DESCRIPTION:
URL:https://azacesorig.agencyinkwell.dev/event/arizona-trauma-informed-faith-community-network-aztifc/2021-11-09/
LOCATION:Location varies
CATEGORIES:Arizona Trauma Informed Faith Community Network (AZTIFC) Work Group,Executive Committee
END:VEVENT
BEGIN:VEVENT
DTSTART;TZID=America/Phoenix:20211102T090000
DTEND;TZID=America/Phoenix:20211102T100000
DTSTAMP:20260421T072251
CREATED:20190213T025201Z
LAST-MODIFIED:20190213T214951Z
UID:10000221-1635843600-1635847200@azacesorig.agencyinkwell.dev
SUMMARY:Trauma Informed Recovery
DESCRIPTION:
URL:https://azacesorig.agencyinkwell.dev/event/trauma-informed-recovery/2021-11-02/
LOCATION:Addiction Haven\, 1400 N Gilbert Rd Suite F\, GILBERT\, AZ\, 85234\, United States
CATEGORIES:Executive Committee
ORGANIZER;CN="Angie Burleson":MAILTO:angiemburleson@gmail.com
END:VEVENT
BEGIN:VEVENT
DTSTART;TZID=America/Phoenix:20211025T090000
DTEND;TZID=America/Phoenix:20211025T110000
DTSTAMP:20260421T072251
CREATED:20190213T023630Z
LAST-MODIFIED:20220324T183633Z
UID:10000085-1635152400-1635159600@azacesorig.agencyinkwell.dev
SUMMARY:ACEs Consortium Executive Committee
DESCRIPTION:
URL:https://azacesorig.agencyinkwell.dev/event/ace-consortium-executive-committee/2021-10-25/
CATEGORIES:Executive Committee
END:VEVENT
BEGIN:VEVENT
DTSTART;TZID=America/Phoenix:20211012T100000
DTEND;TZID=America/Phoenix:20211012T113000
DTSTAMP:20260421T072251
CREATED:20190213T024141Z
LAST-MODIFIED:20190628T160944Z
UID:10000153-1634032800-1634038200@azacesorig.agencyinkwell.dev
SUMMARY:Arizona Trauma Informed Faith Community Network  (AZTIFC)
DESCRIPTION:
URL:https://azacesorig.agencyinkwell.dev/event/arizona-trauma-informed-faith-community-network-aztifc/2021-10-12/
LOCATION:Location varies
CATEGORIES:Arizona Trauma Informed Faith Community Network (AZTIFC) Work Group,Executive Committee
END:VEVENT
BEGIN:VEVENT
DTSTART;TZID=America/Phoenix:20211005T090000
DTEND;TZID=America/Phoenix:20211005T100000
DTSTAMP:20260421T072251
CREATED:20190213T025201Z
LAST-MODIFIED:20190213T214951Z
UID:10000220-1633424400-1633428000@azacesorig.agencyinkwell.dev
SUMMARY:Trauma Informed Recovery
DESCRIPTION:
URL:https://azacesorig.agencyinkwell.dev/event/trauma-informed-recovery/2021-10-05/
LOCATION:Addiction Haven\, 1400 N Gilbert Rd Suite F\, GILBERT\, AZ\, 85234\, United States
CATEGORIES:Executive Committee
ORGANIZER;CN="Angie Burleson":MAILTO:angiemburleson@gmail.com
END:VEVENT
BEGIN:VEVENT
DTSTART;TZID=America/Phoenix:20210927T090000
DTEND;TZID=America/Phoenix:20210927T110000
DTSTAMP:20260421T072251
CREATED:20190213T023630Z
LAST-MODIFIED:20220324T183633Z
UID:10000084-1632733200-1632740400@azacesorig.agencyinkwell.dev
SUMMARY:ACEs Consortium Executive Committee
DESCRIPTION:
URL:https://azacesorig.agencyinkwell.dev/event/ace-consortium-executive-committee/2021-09-27/
CATEGORIES:Executive Committee
END:VEVENT
END:VCALENDAR