BEGIN:VCALENDAR
VERSION:2.0
PRODID:-//ACEs Consortium - ECPv6.14.1//NONSGML v1.0//EN
CALSCALE:GREGORIAN
METHOD:PUBLISH
X-ORIGINAL-URL:https://azacesorig.agencyinkwell.dev
X-WR-CALDESC:Events for ACEs Consortium
REFRESH-INTERVAL;VALUE=DURATION:PT1H
X-Robots-Tag:noindex
X-PUBLISHED-TTL:PT1H
BEGIN:VTIMEZONE
TZID:America/Phoenix
BEGIN:STANDARD
TZOFFSETFROM:-0700
TZOFFSETTO:-0700
TZNAME:MST
DTSTART:20190101T000000
END:STANDARD
END:VTIMEZONE
BEGIN:VEVENT
DTSTART;TZID=America/Phoenix:20201110T080000
DTEND;TZID=America/Phoenix:20201110T130000
DTSTAMP:20260423T214416
CREATED:20200916T201729Z
LAST-MODIFIED:20210216T225443Z
UID:10000064-1604995200-1605013200@azacesorig.agencyinkwell.dev
SUMMARY:Certified ACEs Training of Trainers
DESCRIPTION:TRAINING IS FULL! \nAre you interested in delivering trainings on ACEs\, trauma and resilience? The ACEs Consortium is looking to expand its community of Certified ACEs Trainers. Come join our next Training of the Trainers set to occur virtually on the following dates from 8am to 1pm: 10/20\, 10/27\, 11/3 and 11/10. \nThe Training of Trainers includes: \n\nHow to deliver the content of The Consortium’s three training modules that include:\n\nThe ACEs study\, its data and the short/long term impacts of ACEs;\nToxic stress\, trauma\, the trauma-informed approach and strategies for support; and\nResilience\, principles of trauma informed care and supporting post-traumatic growth\n\n\nHow to create a safe\, trauma-informed learning environment that acknowledges cultural responsiveness and historical trauma\nUnderstanding adult learning styles to create an optimal learning environment\nHow to deliver an engaging\, interactive training in a virtual environment\nContributing to the growing Community of Practice among the Arizona ACE Trainers\n\n  \nAfter completion of the four-day virtual training and signing the trainer agreement\, Certified ACEs Trainers will: \n\nGain access to the robust Arizona ACEs Consortium Certified Trainers Support Site which includes all training module PowerPoints and handouts\, support and resource materials for trainings and ongoing professional learning resources\nHave the option to be listed on our Arizona ACEs website as a Certified ACEs Trainers\nGain access to a wide range of trainer supports including Arizona ACE Consortium trainer meetings\, one-on-one coaching related to training delivery and a knowledgeable Certified ACE Trainer Community of Practice\nBe certified by the Arizona ACE Consortium to train communities on the three ACEs Consortium Modules.\n\nCost of Training- $399 \nDates of Training **must be available to attend the full training time on all four dates**:  October 20\, October 27\, November 3\, November 10 \nTime- 8am-1pm with an hour break at 10am \nLimited scholarships are available. You may access the application here. \nTRAINING IS FULL!
URL:https://azacesorig.agencyinkwell.dev/event/certified-ace-training-of-trainers/2020-11-10/
LOCATION:Virtual
CATEGORIES:ACEs Training Work Group,Training
ORGANIZER;CN="Angie Burleson":MAILTO:angiemburleson@gmail.com
END:VEVENT
BEGIN:VEVENT
DTSTART;TZID=America/Phoenix:20201104T160000
DTEND;TZID=America/Phoenix:20201104T173000
DTSTAMP:20260423T214416
CREATED:20200716T010548Z
LAST-MODIFIED:20201016T031851Z
UID:10000059-1604505600-1604511000@azacesorig.agencyinkwell.dev
SUMMARY:Creating Trauma Sensitive AZ Schools Workgroup
DESCRIPTION:Register here: https://zoom.us/meeting/register/tJYsdeigrjwuHdJQMHFxb6mofe3WivJV1JM6
URL:https://azacesorig.agencyinkwell.dev/event/creating-trauma-sensitive-az-schools-workgroup/2020-11-04/
LOCATION:Virtual
ORGANIZER;CN="Angie Burleson":MAILTO:angiemburleson@gmail.com
END:VEVENT
BEGIN:VEVENT
DTSTART;TZID=America/Phoenix:20201103T090000
DTEND;TZID=America/Phoenix:20201103T100000
DTSTAMP:20260423T214416
CREATED:20190213T025201Z
LAST-MODIFIED:20190213T214951Z
UID:10000209-1604394000-1604397600@azacesorig.agencyinkwell.dev
SUMMARY:Trauma Informed Recovery
DESCRIPTION:
URL:https://azacesorig.agencyinkwell.dev/event/trauma-informed-recovery/2020-11-03/
LOCATION:Addiction Haven\, 1400 N Gilbert Rd Suite F\, GILBERT\, AZ\, 85234\, United States
CATEGORIES:Executive Committee
ORGANIZER;CN="Angie Burleson":MAILTO:angiemburleson@gmail.com
END:VEVENT
BEGIN:VEVENT
DTSTART;TZID=America/Phoenix:20201103T080000
DTEND;TZID=America/Phoenix:20201103T130000
DTSTAMP:20260423T214416
CREATED:20200916T201729Z
LAST-MODIFIED:20210216T225443Z
UID:10000063-1604390400-1604408400@azacesorig.agencyinkwell.dev
SUMMARY:Certified ACEs Training of Trainers
DESCRIPTION:TRAINING IS FULL! \nAre you interested in delivering trainings on ACEs\, trauma and resilience? The ACEs Consortium is looking to expand its community of Certified ACEs Trainers. Come join our next Training of the Trainers set to occur virtually on the following dates from 8am to 1pm: 10/20\, 10/27\, 11/3 and 11/10. \nThe Training of Trainers includes: \n\nHow to deliver the content of The Consortium’s three training modules that include:\n\nThe ACEs study\, its data and the short/long term impacts of ACEs;\nToxic stress\, trauma\, the trauma-informed approach and strategies for support; and\nResilience\, principles of trauma informed care and supporting post-traumatic growth\n\n\nHow to create a safe\, trauma-informed learning environment that acknowledges cultural responsiveness and historical trauma\nUnderstanding adult learning styles to create an optimal learning environment\nHow to deliver an engaging\, interactive training in a virtual environment\nContributing to the growing Community of Practice among the Arizona ACE Trainers\n\n  \nAfter completion of the four-day virtual training and signing the trainer agreement\, Certified ACEs Trainers will: \n\nGain access to the robust Arizona ACEs Consortium Certified Trainers Support Site which includes all training module PowerPoints and handouts\, support and resource materials for trainings and ongoing professional learning resources\nHave the option to be listed on our Arizona ACEs website as a Certified ACEs Trainers\nGain access to a wide range of trainer supports including Arizona ACE Consortium trainer meetings\, one-on-one coaching related to training delivery and a knowledgeable Certified ACE Trainer Community of Practice\nBe certified by the Arizona ACE Consortium to train communities on the three ACEs Consortium Modules.\n\nCost of Training- $399 \nDates of Training **must be available to attend the full training time on all four dates**:  October 20\, October 27\, November 3\, November 10 \nTime- 8am-1pm with an hour break at 10am \nLimited scholarships are available. You may access the application here. \nTRAINING IS FULL!
URL:https://azacesorig.agencyinkwell.dev/event/certified-ace-training-of-trainers/2020-11-03/
LOCATION:Virtual
CATEGORIES:ACEs Training Work Group,Training
ORGANIZER;CN="Angie Burleson":MAILTO:angiemburleson@gmail.com
END:VEVENT
BEGIN:VEVENT
DTSTART;TZID=America/Phoenix:20201027T080000
DTEND;TZID=America/Phoenix:20201027T130000
DTSTAMP:20260423T214416
CREATED:20200916T201729Z
LAST-MODIFIED:20210216T225443Z
UID:10000062-1603785600-1603803600@azacesorig.agencyinkwell.dev
SUMMARY:Certified ACEs Training of Trainers
DESCRIPTION:TRAINING IS FULL! \nAre you interested in delivering trainings on ACEs\, trauma and resilience? The ACEs Consortium is looking to expand its community of Certified ACEs Trainers. Come join our next Training of the Trainers set to occur virtually on the following dates from 8am to 1pm: 10/20\, 10/27\, 11/3 and 11/10. \nThe Training of Trainers includes: \n\nHow to deliver the content of The Consortium’s three training modules that include:\n\nThe ACEs study\, its data and the short/long term impacts of ACEs;\nToxic stress\, trauma\, the trauma-informed approach and strategies for support; and\nResilience\, principles of trauma informed care and supporting post-traumatic growth\n\n\nHow to create a safe\, trauma-informed learning environment that acknowledges cultural responsiveness and historical trauma\nUnderstanding adult learning styles to create an optimal learning environment\nHow to deliver an engaging\, interactive training in a virtual environment\nContributing to the growing Community of Practice among the Arizona ACE Trainers\n\n  \nAfter completion of the four-day virtual training and signing the trainer agreement\, Certified ACEs Trainers will: \n\nGain access to the robust Arizona ACEs Consortium Certified Trainers Support Site which includes all training module PowerPoints and handouts\, support and resource materials for trainings and ongoing professional learning resources\nHave the option to be listed on our Arizona ACEs website as a Certified ACEs Trainers\nGain access to a wide range of trainer supports including Arizona ACE Consortium trainer meetings\, one-on-one coaching related to training delivery and a knowledgeable Certified ACE Trainer Community of Practice\nBe certified by the Arizona ACE Consortium to train communities on the three ACEs Consortium Modules.\n\nCost of Training- $399 \nDates of Training **must be available to attend the full training time on all four dates**:  October 20\, October 27\, November 3\, November 10 \nTime- 8am-1pm with an hour break at 10am \nLimited scholarships are available. You may access the application here. \nTRAINING IS FULL!
URL:https://azacesorig.agencyinkwell.dev/event/certified-ace-training-of-trainers/2020-10-27/
LOCATION:Virtual
CATEGORIES:ACEs Training Work Group,Training
ORGANIZER;CN="Angie Burleson":MAILTO:angiemburleson@gmail.com
END:VEVENT
BEGIN:VEVENT
DTSTART;TZID=America/Phoenix:20201020T080000
DTEND;TZID=America/Phoenix:20201020T130000
DTSTAMP:20260423T214416
CREATED:20200916T201729Z
LAST-MODIFIED:20210216T225443Z
UID:10000061-1603180800-1603198800@azacesorig.agencyinkwell.dev
SUMMARY:Certified ACEs Training of Trainers
DESCRIPTION:TRAINING IS FULL! \nAre you interested in delivering trainings on ACEs\, trauma and resilience? The ACEs Consortium is looking to expand its community of Certified ACEs Trainers. Come join our next Training of the Trainers set to occur virtually on the following dates from 8am to 1pm: 10/20\, 10/27\, 11/3 and 11/10. \nThe Training of Trainers includes: \n\nHow to deliver the content of The Consortium’s three training modules that include:\n\nThe ACEs study\, its data and the short/long term impacts of ACEs;\nToxic stress\, trauma\, the trauma-informed approach and strategies for support; and\nResilience\, principles of trauma informed care and supporting post-traumatic growth\n\n\nHow to create a safe\, trauma-informed learning environment that acknowledges cultural responsiveness and historical trauma\nUnderstanding adult learning styles to create an optimal learning environment\nHow to deliver an engaging\, interactive training in a virtual environment\nContributing to the growing Community of Practice among the Arizona ACE Trainers\n\n  \nAfter completion of the four-day virtual training and signing the trainer agreement\, Certified ACEs Trainers will: \n\nGain access to the robust Arizona ACEs Consortium Certified Trainers Support Site which includes all training module PowerPoints and handouts\, support and resource materials for trainings and ongoing professional learning resources\nHave the option to be listed on our Arizona ACEs website as a Certified ACEs Trainers\nGain access to a wide range of trainer supports including Arizona ACE Consortium trainer meetings\, one-on-one coaching related to training delivery and a knowledgeable Certified ACE Trainer Community of Practice\nBe certified by the Arizona ACE Consortium to train communities on the three ACEs Consortium Modules.\n\nCost of Training- $399 \nDates of Training **must be available to attend the full training time on all four dates**:  October 20\, October 27\, November 3\, November 10 \nTime- 8am-1pm with an hour break at 10am \nLimited scholarships are available. You may access the application here. \nTRAINING IS FULL!
URL:https://azacesorig.agencyinkwell.dev/event/certified-ace-training-of-trainers/2020-10-20/
LOCATION:Virtual
CATEGORIES:ACEs Training Work Group,Training
ORGANIZER;CN="Angie Burleson":MAILTO:angiemburleson@gmail.com
END:VEVENT
BEGIN:VEVENT
DTSTART;TZID=America/Phoenix:20201007T160000
DTEND;TZID=America/Phoenix:20201007T173000
DTSTAMP:20260423T214416
CREATED:20200716T010548Z
LAST-MODIFIED:20201016T031851Z
UID:10000058-1602086400-1602091800@azacesorig.agencyinkwell.dev
SUMMARY:Creating Trauma Sensitive AZ Schools Workgroup
DESCRIPTION:Register here: https://zoom.us/meeting/register/tJYsdeigrjwuHdJQMHFxb6mofe3WivJV1JM6
URL:https://azacesorig.agencyinkwell.dev/event/creating-trauma-sensitive-az-schools-workgroup/2020-10-07/
LOCATION:Virtual
ORGANIZER;CN="Angie Burleson":MAILTO:angiemburleson@gmail.com
END:VEVENT
BEGIN:VEVENT
DTSTART;TZID=America/Phoenix:20201006T090000
DTEND;TZID=America/Phoenix:20201006T100000
DTSTAMP:20260423T214416
CREATED:20190213T025201Z
LAST-MODIFIED:20190213T214951Z
UID:10000208-1601974800-1601978400@azacesorig.agencyinkwell.dev
SUMMARY:Trauma Informed Recovery
DESCRIPTION:
URL:https://azacesorig.agencyinkwell.dev/event/trauma-informed-recovery/2020-10-06/
LOCATION:Addiction Haven\, 1400 N Gilbert Rd Suite F\, GILBERT\, AZ\, 85234\, United States
CATEGORIES:Executive Committee
ORGANIZER;CN="Angie Burleson":MAILTO:angiemburleson@gmail.com
END:VEVENT
BEGIN:VEVENT
DTSTART;TZID=America/Phoenix:20200902T160000
DTEND;TZID=America/Phoenix:20200902T173000
DTSTAMP:20260423T214416
CREATED:20200716T010548Z
LAST-MODIFIED:20201016T031851Z
UID:10000057-1599062400-1599067800@azacesorig.agencyinkwell.dev
SUMMARY:Creating Trauma Sensitive AZ Schools Workgroup
DESCRIPTION:Register here: https://zoom.us/meeting/register/tJYsdeigrjwuHdJQMHFxb6mofe3WivJV1JM6
URL:https://azacesorig.agencyinkwell.dev/event/creating-trauma-sensitive-az-schools-workgroup/2020-09-02/
LOCATION:Virtual
ORGANIZER;CN="Angie Burleson":MAILTO:angiemburleson@gmail.com
END:VEVENT
BEGIN:VEVENT
DTSTART;TZID=America/Phoenix:20200901T090000
DTEND;TZID=America/Phoenix:20200901T100000
DTSTAMP:20260423T214416
CREATED:20190213T025201Z
LAST-MODIFIED:20190213T214951Z
UID:10000207-1598950800-1598954400@azacesorig.agencyinkwell.dev
SUMMARY:Trauma Informed Recovery
DESCRIPTION:
URL:https://azacesorig.agencyinkwell.dev/event/trauma-informed-recovery/2020-09-01/
LOCATION:Addiction Haven\, 1400 N Gilbert Rd Suite F\, GILBERT\, AZ\, 85234\, United States
CATEGORIES:Executive Committee
ORGANIZER;CN="Angie Burleson":MAILTO:angiemburleson@gmail.com
END:VEVENT
BEGIN:VEVENT
DTSTART;TZID=America/Phoenix:20200805T160000
DTEND;TZID=America/Phoenix:20200805T173000
DTSTAMP:20260423T214416
CREATED:20200716T010548Z
LAST-MODIFIED:20201016T031851Z
UID:10000056-1596643200-1596648600@azacesorig.agencyinkwell.dev
SUMMARY:Creating Trauma Sensitive AZ Schools Workgroup
DESCRIPTION:Register here: https://zoom.us/meeting/register/tJYsdeigrjwuHdJQMHFxb6mofe3WivJV1JM6
URL:https://azacesorig.agencyinkwell.dev/event/creating-trauma-sensitive-az-schools-workgroup/2020-08-05/
LOCATION:Virtual
ORGANIZER;CN="Angie Burleson":MAILTO:angiemburleson@gmail.com
END:VEVENT
BEGIN:VEVENT
DTSTART;TZID=America/Phoenix:20200804T090000
DTEND;TZID=America/Phoenix:20200804T100000
DTSTAMP:20260423T214416
CREATED:20190213T025201Z
LAST-MODIFIED:20190213T214951Z
UID:10000206-1596531600-1596535200@azacesorig.agencyinkwell.dev
SUMMARY:Trauma Informed Recovery
DESCRIPTION:
URL:https://azacesorig.agencyinkwell.dev/event/trauma-informed-recovery/2020-08-04/
LOCATION:Addiction Haven\, 1400 N Gilbert Rd Suite F\, GILBERT\, AZ\, 85234\, United States
CATEGORIES:Executive Committee
ORGANIZER;CN="Angie Burleson":MAILTO:angiemburleson@gmail.com
END:VEVENT
BEGIN:VEVENT
DTSTART;TZID=America/Phoenix:20200707T090000
DTEND;TZID=America/Phoenix:20200707T100000
DTSTAMP:20260423T214416
CREATED:20190213T025201Z
LAST-MODIFIED:20190213T214951Z
UID:10000205-1594112400-1594116000@azacesorig.agencyinkwell.dev
SUMMARY:Trauma Informed Recovery
DESCRIPTION:
URL:https://azacesorig.agencyinkwell.dev/event/trauma-informed-recovery/2020-07-07/
LOCATION:Addiction Haven\, 1400 N Gilbert Rd Suite F\, GILBERT\, AZ\, 85234\, United States
CATEGORIES:Executive Committee
ORGANIZER;CN="Angie Burleson":MAILTO:angiemburleson@gmail.com
END:VEVENT
BEGIN:VEVENT
DTSTART;TZID=America/Phoenix:20200602T090000
DTEND;TZID=America/Phoenix:20200602T100000
DTSTAMP:20260423T214416
CREATED:20190213T025201Z
LAST-MODIFIED:20190213T214951Z
UID:10000204-1591088400-1591092000@azacesorig.agencyinkwell.dev
SUMMARY:Trauma Informed Recovery
DESCRIPTION:
URL:https://azacesorig.agencyinkwell.dev/event/trauma-informed-recovery/2020-06-02/
LOCATION:Addiction Haven\, 1400 N Gilbert Rd Suite F\, GILBERT\, AZ\, 85234\, United States
CATEGORIES:Executive Committee
ORGANIZER;CN="Angie Burleson":MAILTO:angiemburleson@gmail.com
END:VEVENT
BEGIN:VEVENT
DTSTART;TZID=America/Phoenix:20200505T090000
DTEND;TZID=America/Phoenix:20200505T100000
DTSTAMP:20260423T214416
CREATED:20190213T025201Z
LAST-MODIFIED:20190213T214951Z
UID:10000203-1588669200-1588672800@azacesorig.agencyinkwell.dev
SUMMARY:Trauma Informed Recovery
DESCRIPTION:
URL:https://azacesorig.agencyinkwell.dev/event/trauma-informed-recovery/2020-05-05/
LOCATION:Addiction Haven\, 1400 N Gilbert Rd Suite F\, GILBERT\, AZ\, 85234\, United States
CATEGORIES:Executive Committee
ORGANIZER;CN="Angie Burleson":MAILTO:angiemburleson@gmail.com
END:VEVENT
BEGIN:VEVENT
DTSTART;TZID=America/Phoenix:20200407T090000
DTEND;TZID=America/Phoenix:20200407T100000
DTSTAMP:20260423T214416
CREATED:20190213T025201Z
LAST-MODIFIED:20190213T214951Z
UID:10000202-1586250000-1586253600@azacesorig.agencyinkwell.dev
SUMMARY:Trauma Informed Recovery
DESCRIPTION:
URL:https://azacesorig.agencyinkwell.dev/event/trauma-informed-recovery/2020-04-07/
LOCATION:Addiction Haven\, 1400 N Gilbert Rd Suite F\, GILBERT\, AZ\, 85234\, United States
CATEGORIES:Executive Committee
ORGANIZER;CN="Angie Burleson":MAILTO:angiemburleson@gmail.com
END:VEVENT
BEGIN:VEVENT
DTSTART;TZID=America/Phoenix:20200303T090000
DTEND;TZID=America/Phoenix:20200303T100000
DTSTAMP:20260423T214416
CREATED:20190213T025201Z
LAST-MODIFIED:20190213T214951Z
UID:10000201-1583226000-1583229600@azacesorig.agencyinkwell.dev
SUMMARY:Trauma Informed Recovery
DESCRIPTION:
URL:https://azacesorig.agencyinkwell.dev/event/trauma-informed-recovery/2020-03-03/
LOCATION:Addiction Haven\, 1400 N Gilbert Rd Suite F\, GILBERT\, AZ\, 85234\, United States
CATEGORIES:Executive Committee
ORGANIZER;CN="Angie Burleson":MAILTO:angiemburleson@gmail.com
END:VEVENT
BEGIN:VEVENT
DTSTART;TZID=America/Phoenix:20200204T090000
DTEND;TZID=America/Phoenix:20200204T100000
DTSTAMP:20260423T214416
CREATED:20190213T025201Z
LAST-MODIFIED:20190213T214951Z
UID:10000200-1580806800-1580810400@azacesorig.agencyinkwell.dev
SUMMARY:Trauma Informed Recovery
DESCRIPTION:
URL:https://azacesorig.agencyinkwell.dev/event/trauma-informed-recovery/2020-02-04/
LOCATION:Addiction Haven\, 1400 N Gilbert Rd Suite F\, GILBERT\, AZ\, 85234\, United States
CATEGORIES:Executive Committee
ORGANIZER;CN="Angie Burleson":MAILTO:angiemburleson@gmail.com
END:VEVENT
BEGIN:VEVENT
DTSTART;TZID=America/Phoenix:20200107T090000
DTEND;TZID=America/Phoenix:20200107T100000
DTSTAMP:20260423T214416
CREATED:20190213T025201Z
LAST-MODIFIED:20190213T214951Z
UID:10000199-1578387600-1578391200@azacesorig.agencyinkwell.dev
SUMMARY:Trauma Informed Recovery
DESCRIPTION:
URL:https://azacesorig.agencyinkwell.dev/event/trauma-informed-recovery/2020-01-07/
LOCATION:Addiction Haven\, 1400 N Gilbert Rd Suite F\, GILBERT\, AZ\, 85234\, United States
CATEGORIES:Executive Committee
ORGANIZER;CN="Angie Burleson":MAILTO:angiemburleson@gmail.com
END:VEVENT
BEGIN:VEVENT
DTSTART;TZID=America/Phoenix:20191203T090000
DTEND;TZID=America/Phoenix:20191203T100000
DTSTAMP:20260423T214416
CREATED:20190213T025201Z
LAST-MODIFIED:20190213T214951Z
UID:10000198-1575363600-1575367200@azacesorig.agencyinkwell.dev
SUMMARY:Trauma Informed Recovery
DESCRIPTION:
URL:https://azacesorig.agencyinkwell.dev/event/trauma-informed-recovery/2019-12-03/
LOCATION:Addiction Haven\, 1400 N Gilbert Rd Suite F\, GILBERT\, AZ\, 85234\, United States
CATEGORIES:Executive Committee
ORGANIZER;CN="Angie Burleson":MAILTO:angiemburleson@gmail.com
END:VEVENT
BEGIN:VEVENT
DTSTART;TZID=America/Phoenix:20191105T090000
DTEND;TZID=America/Phoenix:20191105T100000
DTSTAMP:20260423T214416
CREATED:20190213T025201Z
LAST-MODIFIED:20190213T214951Z
UID:10000197-1572944400-1572948000@azacesorig.agencyinkwell.dev
SUMMARY:Trauma Informed Recovery
DESCRIPTION:
URL:https://azacesorig.agencyinkwell.dev/event/trauma-informed-recovery/2019-11-05/
LOCATION:Addiction Haven\, 1400 N Gilbert Rd Suite F\, GILBERT\, AZ\, 85234\, United States
CATEGORIES:Executive Committee
ORGANIZER;CN="Angie Burleson":MAILTO:angiemburleson@gmail.com
END:VEVENT
BEGIN:VEVENT
DTSTART;TZID=America/Phoenix:20191001T090000
DTEND;TZID=America/Phoenix:20191001T100000
DTSTAMP:20260423T214416
CREATED:20190213T025201Z
LAST-MODIFIED:20190213T214951Z
UID:10000196-1569920400-1569924000@azacesorig.agencyinkwell.dev
SUMMARY:Trauma Informed Recovery
DESCRIPTION:
URL:https://azacesorig.agencyinkwell.dev/event/trauma-informed-recovery/2019-10-01/
LOCATION:Addiction Haven\, 1400 N Gilbert Rd Suite F\, GILBERT\, AZ\, 85234\, United States
CATEGORIES:Executive Committee
ORGANIZER;CN="Angie Burleson":MAILTO:angiemburleson@gmail.com
END:VEVENT
BEGIN:VEVENT
DTSTART;TZID=America/Phoenix:20190903T090000
DTEND;TZID=America/Phoenix:20190903T100000
DTSTAMP:20260423T214416
CREATED:20190213T025201Z
LAST-MODIFIED:20190213T214951Z
UID:10000195-1567501200-1567504800@azacesorig.agencyinkwell.dev
SUMMARY:Trauma Informed Recovery
DESCRIPTION:
URL:https://azacesorig.agencyinkwell.dev/event/trauma-informed-recovery/2019-09-03/
LOCATION:Addiction Haven\, 1400 N Gilbert Rd Suite F\, GILBERT\, AZ\, 85234\, United States
CATEGORIES:Executive Committee
ORGANIZER;CN="Angie Burleson":MAILTO:angiemburleson@gmail.com
END:VEVENT
BEGIN:VEVENT
DTSTART;TZID=America/Phoenix:20190823T083000
DTEND;TZID=America/Phoenix:20190823T170000
DTSTAMP:20260423T214416
CREATED:20190621T171305Z
LAST-MODIFIED:20190814T230349Z
UID:10000243-1566549000-1566579600@azacesorig.agencyinkwell.dev
SUMMARY:TUCSON: Trauma Informed Substance Use Prevention Training for Community Coalitions
DESCRIPTION:The Arizona ACE Consortium proudly presents an all day training for community coalitions on Adverse Childhood Experiences\, how it relates to substance use\, and concrete steps you can take to help transform your community in a trauma informed way! Lunch and light snacks will be provided.
URL:https://azacesorig.agencyinkwell.dev/event/tucson-trauma-informed-substance-use-prevention-training-for-community-coalitions/
LOCATION:Casa de los Ninos\, 1120 N. 5th Avenue\, Tucson\, AZ\, 85705\, United States
CATEGORIES:Training
ORGANIZER;CN="Angie Burleson":MAILTO:angiemburleson@gmail.com
END:VEVENT
BEGIN:VEVENT
DTSTART;TZID=America/Phoenix:20190812T083000
DTEND;TZID=America/Phoenix:20190812T163000
DTSTAMP:20260423T214416
CREATED:20190703T205203Z
LAST-MODIFIED:20190717T190143Z
UID:10000276-1565598600-1565627400@azacesorig.agencyinkwell.dev
SUMMARY:FLAGSTAFF: Trauma Informed Substance Use Prevention Training for Community Coalitions
DESCRIPTION:The Arizona ACE Consortium proudly presents an all day training for community coalitions on Adverse Childhood Experiences\, how it relates to substance use\, and concrete steps you can take to help transform your community in a trauma informed way! Lunch and light snacks will be provided.
URL:https://azacesorig.agencyinkwell.dev/event/flagstaff-trauma-informed-substance-use-prevention-training-for-community-coalitions/
LOCATION:Coconino Community College\, 2800 S. Lone Tree Rd\, Flagstaff\, AZ\, 86005\, United States
CATEGORIES:Training
ORGANIZER;CN="Angie Burleson":MAILTO:angiemburleson@gmail.com
END:VEVENT
BEGIN:VEVENT
DTSTART;TZID=America/Phoenix:20190809T083000
DTEND;TZID=America/Phoenix:20190809T163000
DTSTAMP:20260423T214416
CREATED:20190621T164200Z
LAST-MODIFIED:20190628T163521Z
UID:10000242-1565339400-1565368200@azacesorig.agencyinkwell.dev
SUMMARY:PHOENIX: Trauma Informed Substance Use Prevention Training for Community Coalitions
DESCRIPTION:The Arizona ACE Consortium proudly presents an all day training for community coalitions on Adverse Childhood Experiences\, how it relates to substance use\, and concrete steps you can take to help transform your community in a trauma informed way! Lunch and light snacks will be provided.
URL:https://azacesorig.agencyinkwell.dev/event/phoenix-trauma-informed-substance-use-prevention-training-for-community-coalitions/
LOCATION:Parsons Leadership Center for Girls and Women at Camp South Mountain\, 1611 E Dobbins Rd\, Phoenix\, AZ\, 85042\, United States
CATEGORIES:Training
ORGANIZER;CN="Angie Burleson":MAILTO:angiemburleson@gmail.com
END:VEVENT
BEGIN:VEVENT
DTSTART;TZID=America/Phoenix:20190806T090000
DTEND;TZID=America/Phoenix:20190806T100000
DTSTAMP:20260423T214416
CREATED:20190213T025201Z
LAST-MODIFIED:20190213T214951Z
UID:10000194-1565082000-1565085600@azacesorig.agencyinkwell.dev
SUMMARY:Trauma Informed Recovery
DESCRIPTION:
URL:https://azacesorig.agencyinkwell.dev/event/trauma-informed-recovery/2019-08-06/
LOCATION:Addiction Haven\, 1400 N Gilbert Rd Suite F\, GILBERT\, AZ\, 85234\, United States
CATEGORIES:Executive Committee
ORGANIZER;CN="Angie Burleson":MAILTO:angiemburleson@gmail.com
END:VEVENT
BEGIN:VEVENT
DTSTART;TZID=America/Phoenix:20190702T090000
DTEND;TZID=America/Phoenix:20190702T100000
DTSTAMP:20260423T214417
CREATED:20190213T025201Z
LAST-MODIFIED:20190213T214951Z
UID:10000193-1562058000-1562061600@azacesorig.agencyinkwell.dev
SUMMARY:Trauma Informed Recovery
DESCRIPTION:
URL:https://azacesorig.agencyinkwell.dev/event/trauma-informed-recovery/2019-07-02/
LOCATION:Addiction Haven\, 1400 N Gilbert Rd Suite F\, GILBERT\, AZ\, 85234\, United States
CATEGORIES:Executive Committee
ORGANIZER;CN="Angie Burleson":MAILTO:angiemburleson@gmail.com
END:VEVENT
BEGIN:VEVENT
DTSTART;TZID=America/Phoenix:20190604T090000
DTEND;TZID=America/Phoenix:20190604T100000
DTSTAMP:20260423T214417
CREATED:20190213T025201Z
LAST-MODIFIED:20190213T214951Z
UID:10000192-1559638800-1559642400@azacesorig.agencyinkwell.dev
SUMMARY:Trauma Informed Recovery
DESCRIPTION:
URL:https://azacesorig.agencyinkwell.dev/event/trauma-informed-recovery/2019-06-04/
LOCATION:Addiction Haven\, 1400 N Gilbert Rd Suite F\, GILBERT\, AZ\, 85234\, United States
CATEGORIES:Executive Committee
ORGANIZER;CN="Angie Burleson":MAILTO:angiemburleson@gmail.com
END:VEVENT
BEGIN:VEVENT
DTSTART;TZID=America/Phoenix:20190507T090000
DTEND;TZID=America/Phoenix:20190507T100000
DTSTAMP:20260423T214417
CREATED:20190213T025201Z
LAST-MODIFIED:20190213T214951Z
UID:10000191-1557219600-1557223200@azacesorig.agencyinkwell.dev
SUMMARY:Trauma Informed Recovery
DESCRIPTION:
URL:https://azacesorig.agencyinkwell.dev/event/trauma-informed-recovery/2019-05-07/
LOCATION:Addiction Haven\, 1400 N Gilbert Rd Suite F\, GILBERT\, AZ\, 85234\, United States
CATEGORIES:Executive Committee
ORGANIZER;CN="Angie Burleson":MAILTO:angiemburleson@gmail.com
END:VEVENT
END:VCALENDAR