BEGIN:VCALENDAR
VERSION:2.0
PRODID:-//ACEs Consortium - ECPv6.14.1//NONSGML v1.0//EN
CALSCALE:GREGORIAN
METHOD:PUBLISH
X-WR-CALNAME:ACEs Consortium
X-ORIGINAL-URL:https://azacesorig.agencyinkwell.dev
X-WR-CALDESC:Events for ACEs Consortium
REFRESH-INTERVAL;VALUE=DURATION:PT1H
X-Robots-Tag:noindex
X-PUBLISHED-TTL:PT1H
BEGIN:VTIMEZONE
TZID:America/Phoenix
BEGIN:STANDARD
TZOFFSETFROM:-0700
TZOFFSETTO:-0700
TZNAME:MST
DTSTART:20190101T000000
END:STANDARD
END:VTIMEZONE
BEGIN:VEVENT
DTSTART;TZID=America/Phoenix:20200820T093000
DTEND;TZID=America/Phoenix:20200820T113000
DTSTAMP:20260422T214355
CREATED:20190213T214452Z
LAST-MODIFIED:20220927T230041Z
UID:10000239-1597915800-1597923000@azacesorig.agencyinkwell.dev
SUMMARY:AZ ACEs Consortium Quarterly Meeting
DESCRIPTION:
URL:https://azacesorig.agencyinkwell.dev/event/az-aces-consortium-quarterly-meeting-2019-05-16-2019-08-15/2020-08-20/
LOCATION:Virtual
CATEGORIES:Quarterly Meetings
END:VEVENT
BEGIN:VEVENT
DTSTART;TZID=America/Phoenix:20200805T160000
DTEND;TZID=America/Phoenix:20200805T173000
DTSTAMP:20260422T214355
CREATED:20200716T010548Z
LAST-MODIFIED:20201016T031851Z
UID:10000056-1596643200-1596648600@azacesorig.agencyinkwell.dev
SUMMARY:Creating Trauma Sensitive AZ Schools Workgroup
DESCRIPTION:Register here: https://zoom.us/meeting/register/tJYsdeigrjwuHdJQMHFxb6mofe3WivJV1JM6
URL:https://azacesorig.agencyinkwell.dev/event/creating-trauma-sensitive-az-schools-workgroup/2020-08-05/
LOCATION:Virtual
ORGANIZER;CN="Angie Burleson":MAILTO:angiemburleson@gmail.com
END:VEVENT
BEGIN:VEVENT
DTSTART;TZID=America/Phoenix:20200521T093000
DTEND;TZID=America/Phoenix:20200521T113000
DTSTAMP:20260422T214355
CREATED:20190213T214452Z
LAST-MODIFIED:20220927T230041Z
UID:10000238-1590053400-1590060600@azacesorig.agencyinkwell.dev
SUMMARY:AZ ACEs Consortium Quarterly Meeting
DESCRIPTION:
URL:https://azacesorig.agencyinkwell.dev/event/az-aces-consortium-quarterly-meeting-2019-05-16-2019-08-15/2020-05-21/
LOCATION:Virtual
CATEGORIES:Quarterly Meetings
END:VEVENT
BEGIN:VEVENT
DTSTART;TZID=America/Phoenix:20200220T093000
DTEND;TZID=America/Phoenix:20200220T113000
DTSTAMP:20260422T214355
CREATED:20190213T214452Z
LAST-MODIFIED:20220927T230041Z
UID:10000237-1582191000-1582198200@azacesorig.agencyinkwell.dev
SUMMARY:AZ ACEs Consortium Quarterly Meeting
DESCRIPTION:
URL:https://azacesorig.agencyinkwell.dev/event/az-aces-consortium-quarterly-meeting-2019-05-16-2019-08-15/2020-02-20/
LOCATION:Virtual
CATEGORIES:Quarterly Meetings
END:VEVENT
BEGIN:VEVENT
DTSTART;TZID=America/Phoenix:20191121T093000
DTEND;TZID=America/Phoenix:20191121T113000
DTSTAMP:20260422T214355
CREATED:20190213T214452Z
LAST-MODIFIED:20220927T230041Z
UID:10000236-1574328600-1574335800@azacesorig.agencyinkwell.dev
SUMMARY:AZ ACEs Consortium Quarterly Meeting
DESCRIPTION:
URL:https://azacesorig.agencyinkwell.dev/event/az-aces-consortium-quarterly-meeting-2019-05-16-2019-08-15/2019-11-21/
LOCATION:Virtual
CATEGORIES:Quarterly Meetings
END:VEVENT
BEGIN:VEVENT
DTSTART;TZID=America/Phoenix:20190815T093000
DTEND;TZID=America/Phoenix:20190815T113000
DTSTAMP:20260422T214355
CREATED:20190213T214452Z
LAST-MODIFIED:20220927T230041Z
UID:10000235-1565861400-1565868600@azacesorig.agencyinkwell.dev
SUMMARY:AZ ACEs Consortium Quarterly Meeting
DESCRIPTION:
URL:https://azacesorig.agencyinkwell.dev/event/az-aces-consortium-quarterly-meeting-2019-05-16-2019-08-15/2019-08-15/
LOCATION:Virtual
CATEGORIES:Quarterly Meetings
END:VEVENT
BEGIN:VEVENT
DTSTART;TZID=America/Phoenix:20190516T093000
DTEND;TZID=America/Phoenix:20190516T113000
DTSTAMP:20260422T214355
CREATED:20190213T214452Z
LAST-MODIFIED:20201014T223802Z
UID:10000233-1557999000-1558006200@azacesorig.agencyinkwell.dev
SUMMARY:AZ ACEs Consortium Quarterly Meeting
DESCRIPTION:
URL:https://azacesorig.agencyinkwell.dev/event/az-aces-consortium-quarterly-meeting-2019-05-16/
LOCATION:Virtual
CATEGORIES:Quarterly Meetings
END:VEVENT
BEGIN:VEVENT
DTSTART;TZID=America/Phoenix:20190516T093000
DTEND;TZID=America/Phoenix:20190516T113000
DTSTAMP:20260422T214355
CREATED:20190213T214452Z
LAST-MODIFIED:20220927T230041Z
UID:10000234-1557999000-1558006200@azacesorig.agencyinkwell.dev
SUMMARY:AZ ACEs Consortium Quarterly Meeting
DESCRIPTION:
URL:https://azacesorig.agencyinkwell.dev/event/az-aces-consortium-quarterly-meeting-2019-05-16-2019-08-15/2019-05-16/
LOCATION:Virtual
CATEGORIES:Quarterly Meetings
END:VEVENT
END:VCALENDAR